BEGIN:VCALENDAR
VERSION:2.0
PRODID:-//FitHound - ECPv6.15.20//NONSGML v1.0//EN
CALSCALE:GREGORIAN
METHOD:PUBLISH
X-WR-CALNAME:FitHound
X-ORIGINAL-URL:https://www.fithound.com
X-WR-CALDESC:Events for FitHound
REFRESH-INTERVAL;VALUE=DURATION:PT1H
X-Robots-Tag:noindex
X-PUBLISHED-TTL:PT1H
BEGIN:VTIMEZONE
TZID:America/New_York
BEGIN:DAYLIGHT
TZOFFSETFROM:-0500
TZOFFSETTO:-0400
TZNAME:EDT
DTSTART:20230312T070000
END:DAYLIGHT
BEGIN:STANDARD
TZOFFSETFROM:-0400
TZOFFSETTO:-0500
TZNAME:EST
DTSTART:20231105T060000
END:STANDARD
BEGIN:DAYLIGHT
TZOFFSETFROM:-0500
TZOFFSETTO:-0400
TZNAME:EDT
DTSTART:20240310T070000
END:DAYLIGHT
BEGIN:STANDARD
TZOFFSETFROM:-0400
TZOFFSETTO:-0500
TZNAME:EST
DTSTART:20241103T060000
END:STANDARD
BEGIN:DAYLIGHT
TZOFFSETFROM:-0500
TZOFFSETTO:-0400
TZNAME:EDT
DTSTART:20250309T070000
END:DAYLIGHT
BEGIN:STANDARD
TZOFFSETFROM:-0400
TZOFFSETTO:-0500
TZNAME:EST
DTSTART:20251102T060000
END:STANDARD
END:VTIMEZONE
BEGIN:VEVENT
DTSTART;TZID=America/New_York:20241022T180000
DTEND;TZID=America/New_York:20241022T193000
DTSTAMP:20260423T185644
CREATED:20240930T171020Z
LAST-MODIFIED:20241007T181240Z
UID:243976-1729620000-1729625400@www.fithound.com
SUMMARY:K9 Nosework: Advanced Odor
DESCRIPTION:K9 Nosework: Advanced Odor \nFor teams that have completed Intro to Odor and have instructor approval to register \nTuesdays: 6-7:30pm \nOct 22 – Dec 10 (no class 11/5 or 112/26) \nat Buckeystown Vet Hospital \ncost: $200 \n 
URL:https://www.fithound.com/event/k9-nosework-advanced-odor/
LOCATION:Buckeystown Veterinary Hospital\, 3820 Buckeystown Pike\, Buckeystown\, MD\, 21717\, United States
CATEGORIES:K9 Nosework
END:VEVENT
END:VCALENDAR